Package: altcdfenvs Version: 2.71.0 Command: /home/biocbuild/R/R/bin/R CMD INSTALL altcdfenvs StartedAt: 2025-07-17 20:25:57 -0000 (Thu, 17 Jul 2025) EndedAt: 2025-07-17 20:26:15 -0000 (Thu, 17 Jul 2025) EllapsedTime: 17.8 seconds RetCode: 0 Status: OK