Package: altcdfenvs Version: 2.71.0 Command: F:\biocbuild\bbs-3.22-bioc\R\bin\R.exe CMD INSTALL altcdfenvs StartedAt: 2025-07-14 15:49:12 -0400 (Mon, 14 Jul 2025) EndedAt: 2025-07-14 15:49:53 -0400 (Mon, 14 Jul 2025) EllapsedTime: 40.7 seconds RetCode: 0 Status: OK