Package: altcdfenvs Version: 2.71.0 Command: F:\biocbuild\bbs-3.22-bioc\R\bin\R.exe CMD check --no-multiarch --install=check:altcdfenvs.install-out.txt --library=F:\biocbuild\bbs-3.22-bioc\R\library --no-vignettes --timings altcdfenvs_2.71.0.tar.gz StartedAt: 2025-07-14 23:17:30 -0400 (Mon, 14 Jul 2025) EndedAt: 2025-07-14 23:19:36 -0400 (Mon, 14 Jul 2025) EllapsedTime: 125.4 seconds RetCode: 0 Status: OK CheckDir: altcdfenvs.Rcheck Warnings: 0