Package: altcdfenvs Version: 2.71.0 Command: /Library/Frameworks/R.framework/Resources/bin/R CMD build --keep-empty-dirs --no-resave-data altcdfenvs StartedAt: 2025-06-30 15:35:21 -0400 (Mon, 30 Jun 2025) EndedAt: 2025-06-30 15:35:42 -0400 (Mon, 30 Jun 2025) EllapsedTime: 21.2 seconds RetCode: 0 Status: OK PackageFile: altcdfenvs_2.71.0.tar.gz PackageFileSize: 667.1 KiB