Package: alevinQC Version: 1.25.1 Command: F:\biocbuild\bbs-3.22-bioc\R\bin\R.exe CMD INSTALL alevinQC StartedAt: 2025-07-24 15:39:32 -0400 (Thu, 24 Jul 2025) EndedAt: 2025-07-24 15:40:16 -0400 (Thu, 24 Jul 2025) EllapsedTime: 43.8 seconds RetCode: 0 Status: OK