Package: alevinQC Version: 1.25.0 Command: /Library/Frameworks/R.framework/Resources/bin/R CMD INSTALL alevinQC StartedAt: 2025-07-11 15:11:47 -0400 (Fri, 11 Jul 2025) EndedAt: 2025-07-11 15:12:25 -0400 (Fri, 11 Jul 2025) EllapsedTime: 38.0 seconds RetCode: 0 Status: OK