Package: alevinQC Version: 1.25.0 Command: /Library/Frameworks/R.framework/Resources/bin/R CMD check --install=check:alevinQC.install-out.txt --library=/Library/Frameworks/R.framework/Resources/library --no-vignettes --timings alevinQC_1.25.0.tar.gz StartedAt: 2025-07-11 19:04:28 -0400 (Fri, 11 Jul 2025) EndedAt: 2025-07-11 19:07:34 -0400 (Fri, 11 Jul 2025) EllapsedTime: 185.9 seconds RetCode: 0 Status: OK CheckDir: alevinQC.Rcheck Warnings: 0