Package: alevinQC Version: 1.25.0 Command: /Library/Frameworks/R.framework/Resources/bin/R CMD build --keep-empty-dirs --no-resave-data alevinQC StartedAt: 2025-07-11 16:02:32 -0400 (Fri, 11 Jul 2025) EndedAt: 2025-07-11 16:03:17 -0400 (Fri, 11 Jul 2025) EllapsedTime: 45.7 seconds RetCode: 0 Status: OK PackageFile: alevinQC_1.25.0.tar.gz PackageFileSize: 7.612 MiB