Package: alevinQC Version: 1.25.1 Command: /Library/Frameworks/R.framework/Resources/bin/R CMD INSTALL alevinQC StartedAt: 2025-10-07 15:05:45 -0400 (Tue, 07 Oct 2025) EndedAt: 2025-10-07 15:05:53 -0400 (Tue, 07 Oct 2025) EllapsedTime: 7.9 seconds RetCode: 0 Status: OK