Package: alabaster Version: 1.9.0 Command: /home/biocbuild/R/R/bin/R CMD INSTALL alabaster StartedAt: 2025-07-17 21:18:33 -0000 (Thu, 17 Jul 2025) EndedAt: 2025-07-17 21:19:34 -0000 (Thu, 17 Jul 2025) EllapsedTime: 61.0 seconds RetCode: 0 Status: OK