Package: alabaster Version: 1.9.0 Command: /home/biocbuild/R/R/bin/R CMD check --install=check:alabaster.install-out.txt --library=/home/biocbuild/R/R/site-library --no-vignettes --timings alabaster_1.9.0.tar.gz StartedAt: 2025-07-22 04:25:33 -0000 (Tue, 22 Jul 2025) EndedAt: 2025-07-22 04:31:10 -0000 (Tue, 22 Jul 2025) EllapsedTime: 337.6 seconds RetCode: 0 Status: OK CheckDir: alabaster.Rcheck Warnings: 0