Package: alabaster.vcf Version: 1.9.0 Command: /home/biocbuild/R/R/bin/R CMD INSTALL alabaster.vcf StartedAt: 2025-07-07 21:09:31 -0000 (Mon, 07 Jul 2025) EndedAt: 2025-07-07 21:10:29 -0000 (Mon, 07 Jul 2025) EllapsedTime: 58.1 seconds RetCode: 0 Status: OK