Package: alabaster.vcf Version: 1.9.0 Command: /home/biocbuild/R/R/bin/R CMD check --install=check:alabaster.vcf.install-out.txt --library=/home/biocbuild/R/R/site-library --no-vignettes --timings alabaster.vcf_1.9.0.tar.gz StartedAt: 2025-07-08 03:54:26 -0000 (Tue, 08 Jul 2025) EndedAt: 2025-07-08 04:03:49 -0000 (Tue, 08 Jul 2025) EllapsedTime: 562.2 seconds RetCode: 0 Status: OK CheckDir: alabaster.vcf.Rcheck Warnings: 0