Package: alabaster.vcf Version: 1.9.0 Command: /home/biocbuild/R/R/bin/R CMD build --keep-empty-dirs --no-resave-data alabaster.vcf StartedAt: 2025-07-07 21:26:39 -0000 (Mon, 07 Jul 2025) EndedAt: 2025-07-07 21:28:03 -0000 (Mon, 07 Jul 2025) EllapsedTime: 84.0 seconds RetCode: 0 Status: OK PackageFile: alabaster.vcf_1.9.0.tar.gz PackageFileSize: 247.2 KiB