Package: alabaster.vcf Version: 1.9.0 Command: F:\biocbuild\bbs-3.22-bioc\R\bin\R.exe CMD INSTALL alabaster.vcf StartedAt: 2025-07-14 17:02:10 -0400 (Mon, 14 Jul 2025) EndedAt: 2025-07-14 17:03:11 -0400 (Mon, 14 Jul 2025) EllapsedTime: 60.7 seconds RetCode: 0 Status: OK