Package: alabaster.vcf Version: 1.9.0 Command: chmod a+r alabaster.vcf -R && F:\biocbuild\bbs-3.22-bioc\R\bin\R.exe CMD build --keep-empty-dirs --no-resave-data alabaster.vcf StartedAt: 2025-07-14 17:18:11 -0400 (Mon, 14 Jul 2025) EndedAt: 2025-07-14 17:19:32 -0400 (Mon, 14 Jul 2025) EllapsedTime: 81.1 seconds RetCode: 0 Status: OK PackageFile: alabaster.vcf_1.9.0.tar.gz PackageFileSize: 223.1 KiB