Package: alabaster.vcf Version: 1.9.0 Command: /Library/Frameworks/R.framework/Resources/bin/R CMD check --install=check:alabaster.vcf.install-out.txt --library=/Library/Frameworks/R.framework/Resources/library --no-vignettes --timings alabaster.vcf_1.9.0.tar.gz StartedAt: 2025-07-21 18:00:30 -0400 (Mon, 21 Jul 2025) EndedAt: 2025-07-21 18:02:48 -0400 (Mon, 21 Jul 2025) EllapsedTime: 137.7 seconds RetCode: 0 Status: OK CheckDir: alabaster.vcf.Rcheck Warnings: 0