Package: alabaster.string Version: 1.9.0 Command: F:\biocbuild\bbs-3.22-bioc\R\bin\R.exe CMD INSTALL alabaster.string StartedAt: 2025-07-07 17:02:10 -0400 (Mon, 07 Jul 2025) EndedAt: 2025-07-07 17:02:31 -0400 (Mon, 07 Jul 2025) EllapsedTime: 21.1 seconds RetCode: 0 Status: OK