Package: alabaster.string Version: 1.9.0 Command: F:\biocbuild\bbs-3.22-bioc\R\bin\R.exe CMD check --no-multiarch --install=check:alabaster.string.install-out.txt --library=F:\biocbuild\bbs-3.22-bioc\R\library --no-vignettes --timings alabaster.string_1.9.0.tar.gz StartedAt: 2025-07-07 23:13:48 -0400 (Mon, 07 Jul 2025) EndedAt: 2025-07-07 23:15:30 -0400 (Mon, 07 Jul 2025) EllapsedTime: 101.7 seconds RetCode: 0 Status: OK CheckDir: alabaster.string.Rcheck Warnings: 0