Package: alabaster.string Version: 1.9.0 Command: rm -rf alabaster.string.buildbin-libdir && mkdir alabaster.string.buildbin-libdir && F:\biocbuild\bbs-3.22-bioc\R\bin\R.exe CMD INSTALL --build --library=alabaster.string.buildbin-libdir alabaster.string_1.9.0.tar.gz StartedAt: 2025-07-08 08:22:03 -0400 (Tue, 08 Jul 2025) EndedAt: 2025-07-08 08:22:26 -0400 (Tue, 08 Jul 2025) EllapsedTime: 22.2 seconds RetCode: 0 Status: OK PackageFile: alabaster.string_1.9.0.zip PackageFileSize: 281.3 KiB