Package: alabaster.spatial Version: 1.9.0 Command: /Library/Frameworks/R.framework/Resources/bin/R CMD check --install=check:alabaster.spatial.install-out.txt --library=/Library/Frameworks/R.framework/Resources/library --no-vignettes --timings alabaster.spatial_1.9.0.tar.gz StartedAt: 2025-07-13 17:59:30 -0400 (Sun, 13 Jul 2025) EndedAt: 2025-07-13 18:00:58 -0400 (Sun, 13 Jul 2025) EllapsedTime: 88.0 seconds RetCode: 0 Status: OK CheckDir: alabaster.spatial.Rcheck Warnings: 0