Package: alabaster.spatial Version: 1.9.0 Command: /Library/Frameworks/R.framework/Resources/bin/R CMD build --keep-empty-dirs --no-resave-data alabaster.spatial StartedAt: 2025-07-13 15:35:19 -0400 (Sun, 13 Jul 2025) EndedAt: 2025-07-13 15:35:36 -0400 (Sun, 13 Jul 2025) EllapsedTime: 17.2 seconds RetCode: 0 Status: OK PackageFile: alabaster.spatial_1.9.0.tar.gz PackageFileSize: 739 KiB