Package: alabaster.sfe Version: 1.1.0 Command: /home/biocbuild/R/R/bin/R CMD INSTALL alabaster.sfe StartedAt: 2025-07-07 20:50:15 -0000 (Mon, 07 Jul 2025) EndedAt: 2025-07-07 20:51:21 -0000 (Mon, 07 Jul 2025) EllapsedTime: 66.8 seconds RetCode: 0 Status: OK