Package: alabaster.sfe Version: 1.1.0 Command: /home/biocbuild/R/R/bin/R CMD check --install=check:alabaster.sfe.install-out.txt --library=/home/biocbuild/R/R/site-library --no-vignettes --timings alabaster.sfe_1.1.0.tar.gz StartedAt: 2025-07-08 03:53:33 -0000 (Tue, 08 Jul 2025) EndedAt: 2025-07-08 04:07:10 -0000 (Tue, 08 Jul 2025) EllapsedTime: 816.8 seconds RetCode: 0 Status: OK CheckDir: alabaster.sfe.Rcheck Warnings: 0