############################################################################## ############################################################################## ### ### Running command: ### ### rm -rf alabaster.sfe.buildbin-libdir && mkdir alabaster.sfe.buildbin-libdir && F:\biocbuild\bbs-3.22-bioc\R\bin\R.exe CMD INSTALL --build --library=alabaster.sfe.buildbin-libdir alabaster.sfe_1.1.0.tar.gz ### ############################################################################## ############################################################################## * installing *source* package 'alabaster.sfe' ... ** this is package 'alabaster.sfe' version '1.1.0' ** using staged installation ** R ** inst ** byte-compile and prepare package for lazy loading ** help *** installing help indices ** building package indices ** installing vignettes ** testing if installed package can be loaded from temporary location ** testing if installed package can be loaded from final location ** testing if installed package keeps a record of temporary installation path * MD5 sums packaged installation of 'alabaster.sfe' as alabaster.sfe_1.1.0.zip * DONE (alabaster.sfe)