Package: alabaster.se Version: 1.9.0 Command: /home/biocbuild/R/R/bin/R CMD INSTALL alabaster.se StartedAt: 2025-07-17 20:51:53 -0000 (Thu, 17 Jul 2025) EndedAt: 2025-07-17 20:52:25 -0000 (Thu, 17 Jul 2025) EllapsedTime: 32.1 seconds RetCode: 0 Status: OK