Package: alabaster.se Version: 1.9.0 Command: /home/biocbuild/R/R/bin/R CMD build --keep-empty-dirs --no-resave-data alabaster.se StartedAt: 2025-07-17 21:30:50 -0000 (Thu, 17 Jul 2025) EndedAt: 2025-07-17 21:31:36 -0000 (Thu, 17 Jul 2025) EllapsedTime: 46.0 seconds RetCode: 0 Status: OK PackageFile: alabaster.se_1.9.0.tar.gz PackageFileSize: 249.5 KiB