Package: alabaster.se Version: 1.9.0 Command: /Library/Frameworks/R.framework/Resources/bin/R CMD check --install=check:alabaster.se.install-out.txt --library=/Library/Frameworks/R.framework/Resources/library --no-vignettes --timings alabaster.se_1.9.0.tar.gz StartedAt: 2025-07-22 19:02:29 -0400 (Tue, 22 Jul 2025) EndedAt: 2025-07-22 19:06:20 -0400 (Tue, 22 Jul 2025) EllapsedTime: 231.1 seconds RetCode: 0 Status: OK CheckDir: alabaster.se.Rcheck Warnings: 0