Package: alabaster.se Version: 1.9.0 Command: /Library/Frameworks/R.framework/Resources/bin/R CMD build --keep-empty-dirs --no-resave-data alabaster.se StartedAt: 2025-07-22 15:55:29 -0400 (Tue, 22 Jul 2025) EndedAt: 2025-07-22 15:56:11 -0400 (Tue, 22 Jul 2025) EllapsedTime: 42.4 seconds RetCode: 0 Status: OK PackageFile: alabaster.se_1.9.0.tar.gz PackageFileSize: 225 KiB