Package: alabaster.schemas Version: 1.9.0 Command: F:\biocbuild\bbs-3.22-bioc\R\bin\R.exe CMD INSTALL alabaster.schemas StartedAt: 2025-07-14 15:19:49 -0400 (Mon, 14 Jul 2025) EndedAt: 2025-07-14 15:20:03 -0400 (Mon, 14 Jul 2025) EllapsedTime: 14.6 seconds RetCode: 0 Status: OK