Package: alabaster.schemas Version: 1.9.0 Command: F:\biocbuild\bbs-3.22-bioc\R\bin\R.exe CMD check --no-multiarch --install=check:alabaster.schemas.install-out.txt --library=F:\biocbuild\bbs-3.22-bioc\R\library --no-vignettes --timings alabaster.schemas_1.9.0.tar.gz StartedAt: 2025-07-14 23:15:26 -0400 (Mon, 14 Jul 2025) EndedAt: 2025-07-14 23:15:41 -0400 (Mon, 14 Jul 2025) EllapsedTime: 14.7 seconds RetCode: 0 Status: OK CheckDir: alabaster.schemas.Rcheck Warnings: 0