Package: alabaster.schemas Version: 1.9.0 Command: rm -rf alabaster.schemas.buildbin-libdir && mkdir alabaster.schemas.buildbin-libdir && F:\biocbuild\bbs-3.22-bioc\R\bin\R.exe CMD INSTALL --build --library=alabaster.schemas.buildbin-libdir alabaster.schemas_1.9.0.tar.gz StartedAt: 2025-07-15 08:23:00 -0400 (Tue, 15 Jul 2025) EndedAt: 2025-07-15 08:23:26 -0400 (Tue, 15 Jul 2025) EllapsedTime: 26.0 seconds RetCode: 0 Status: OK PackageFile: alabaster.schemas_1.9.0.zip PackageFileSize: 296.9 KiB