Package: alabaster.schemas Version: 1.9.0 Command: /Library/Frameworks/R.framework/Resources/bin/R CMD check --install=check:alabaster.schemas.install-out.txt --library=/Library/Frameworks/R.framework/Resources/library --no-vignettes --timings alabaster.schemas_1.9.0.tar.gz StartedAt: 2025-07-04 17:59:47 -0400 (Fri, 04 Jul 2025) EndedAt: 2025-07-04 17:59:54 -0400 (Fri, 04 Jul 2025) EllapsedTime: 7.1 seconds RetCode: 0 Status: OK CheckDir: alabaster.schemas.Rcheck Warnings: 0