Package: alabaster.sce Version: 1.9.0 Command: /home/biocbuild/R/R/bin/R CMD INSTALL alabaster.sce StartedAt: 2025-07-24 21:43:09 -0000 (Thu, 24 Jul 2025) EndedAt: 2025-07-24 21:43:45 -0000 (Thu, 24 Jul 2025) EllapsedTime: 36.9 seconds RetCode: 0 Status: OK