Package: alabaster.sce Version: 1.9.0 Command: /home/biocbuild/R/R/bin/R CMD build --keep-empty-dirs --no-resave-data alabaster.sce StartedAt: 2025-07-24 22:24:22 -0000 (Thu, 24 Jul 2025) EndedAt: 2025-07-24 22:25:12 -0000 (Thu, 24 Jul 2025) EllapsedTime: 50.0 seconds RetCode: 0 Status: OK PackageFile: alabaster.sce_1.9.0.tar.gz PackageFileSize: 244.1 KiB