Package: alabaster.sce Version: 1.9.0 Command: chmod a+r alabaster.sce -R && F:\biocbuild\bbs-3.22-bioc\R\bin\R.exe CMD build --keep-empty-dirs --no-resave-data alabaster.sce StartedAt: 2025-07-24 17:28:04 -0400 (Thu, 24 Jul 2025) EndedAt: 2025-07-24 17:29:03 -0400 (Thu, 24 Jul 2025) EllapsedTime: 58.5 seconds RetCode: 0 Status: OK PackageFile: alabaster.sce_1.9.0.tar.gz PackageFileSize: 220.5 KiB