Package: alabaster.mae Version: 1.9.0 Command: F:\biocbuild\bbs-3.22-bioc\R\bin\R.exe CMD INSTALL alabaster.mae StartedAt: 2025-07-24 16:35:17 -0400 (Thu, 24 Jul 2025) EndedAt: 2025-07-24 16:35:53 -0400 (Thu, 24 Jul 2025) EllapsedTime: 35.9 seconds RetCode: 0 Status: OK