Package: alabaster.mae Version: 1.9.0 Command: /Library/Frameworks/R.framework/Resources/bin/R CMD INSTALL alabaster.mae StartedAt: 2025-07-14 15:44:47 -0400 (Mon, 14 Jul 2025) EndedAt: 2025-07-14 15:45:27 -0400 (Mon, 14 Jul 2025) EllapsedTime: 39.3 seconds RetCode: 0 Status: OK