Package: alabaster.mae Version: 1.9.0 Command: /Library/Frameworks/R.framework/Resources/bin/R CMD check --install=check:alabaster.mae.install-out.txt --library=/Library/Frameworks/R.framework/Resources/library --no-vignettes --timings alabaster.mae_1.9.0.tar.gz StartedAt: 2025-07-14 19:06:19 -0400 (Mon, 14 Jul 2025) EndedAt: 2025-07-14 19:10:33 -0400 (Mon, 14 Jul 2025) EllapsedTime: 254.1 seconds RetCode: 0 Status: OK CheckDir: alabaster.mae.Rcheck Warnings: 0