Package: alabaster.mae Version: 1.9.0 Command: rm -rf alabaster.mae.buildbin-libdir && mkdir alabaster.mae.buildbin-libdir && /Users/biocbuild/BBS/utils/build-universal.sh alabaster.mae_1.9.0.tar.gz /Library/Frameworks/R.framework/Resources/bin/R alabaster.mae.buildbin-libdir StartedAt: 2025-07-15 00:44:48 -0400 (Tue, 15 Jul 2025) EndedAt: 2025-07-15 00:45:33 -0400 (Tue, 15 Jul 2025) EllapsedTime: 44.8 seconds RetCode: 0 Status: OK PackageFile: alabaster.mae_1.9.0.tgz PackageFileSize: 342.5 KiB