Package: alabaster.mae Version: 1.9.0 Command: /Library/Frameworks/R.framework/Resources/bin/R CMD INSTALL alabaster.mae StartedAt: 2025-07-14 15:14:57 -0400 (Mon, 14 Jul 2025) EndedAt: 2025-07-14 15:15:09 -0400 (Mon, 14 Jul 2025) EllapsedTime: 12.2 seconds RetCode: 0 Status: OK