Package: alabaster.files Version: 1.7.0 Command: /home/biocbuild/R/R/bin/R CMD build --keep-empty-dirs --no-resave-data alabaster.files StartedAt: 2025-07-24 22:23:48 -0000 (Thu, 24 Jul 2025) EndedAt: 2025-07-24 22:24:15 -0000 (Thu, 24 Jul 2025) EllapsedTime: 27.0 seconds RetCode: 0 Status: OK PackageFile: alabaster.files_1.7.0.tar.gz PackageFileSize: 260.2 KiB