Package: alabaster.files Version: 1.7.0 Command: chmod a+r alabaster.files -R && F:\biocbuild\bbs-3.22-bioc\R\bin\R.exe CMD build --keep-empty-dirs --no-resave-data alabaster.files StartedAt: 2025-07-20 17:16:10 -0400 (Sun, 20 Jul 2025) EndedAt: 2025-07-20 17:16:52 -0400 (Sun, 20 Jul 2025) EllapsedTime: 42.0 seconds RetCode: 0 Status: OK PackageFile: alabaster.files_1.7.0.tar.gz PackageFileSize: 234.3 KiB