Package: alabaster.files Version: 1.7.0 Command: rm -rf alabaster.files.buildbin-libdir && mkdir alabaster.files.buildbin-libdir && F:\biocbuild\bbs-3.22-bioc\R\bin\R.exe CMD INSTALL --build --library=alabaster.files.buildbin-libdir alabaster.files_1.7.0.tar.gz StartedAt: 2025-07-21 08:29:38 -0400 (Mon, 21 Jul 2025) EndedAt: 2025-07-21 08:31:00 -0400 (Mon, 21 Jul 2025) EllapsedTime: 81.4 seconds RetCode: 0 Status: OK PackageFile: alabaster.files_1.7.0.zip PackageFileSize: 573.5 KiB