Package: alabaster.files Version: 1.7.0 Command: /home/biocbuild/bbs-3.22-bioc/R/bin/R CMD INSTALL alabaster.files StartedAt: 2025-07-14 15:22:16 -0400 (Mon, 14 Jul 2025) EndedAt: 2025-07-14 15:22:30 -0400 (Mon, 14 Jul 2025) EllapsedTime: 14.8 seconds RetCode: 0 Status: OK