Package: alabaster.files Version: 1.7.0 Command: /home/biocbuild/bbs-3.22-bioc/R/bin/R CMD check --install=check:alabaster.files.install-out.txt --library=/home/biocbuild/bbs-3.22-bioc/R/site-library --timings alabaster.files_1.7.0.tar.gz StartedAt: 2025-07-14 19:54:52 -0400 (Mon, 14 Jul 2025) EndedAt: 2025-07-14 19:56:45 -0400 (Mon, 14 Jul 2025) EllapsedTime: 113.2 seconds RetCode: 0 Status: OK CheckDir: alabaster.files.Rcheck Warnings: 0