Package: airpart Version: 1.17.0 Command: /home/biocbuild/R/R/bin/R CMD INSTALL airpart StartedAt: 2025-07-24 22:04:22 -0000 (Thu, 24 Jul 2025) EndedAt: 2025-07-24 22:05:04 -0000 (Thu, 24 Jul 2025) EllapsedTime: 41.8 seconds RetCode: 0 Status: OK