Package: airpart Version: 1.17.0 Command: /home/biocbuild/R/R/bin/R CMD build --keep-empty-dirs --no-resave-data airpart StartedAt: 2025-07-24 22:23:28 -0000 (Thu, 24 Jul 2025) EndedAt: 2025-07-24 22:25:14 -0000 (Thu, 24 Jul 2025) EllapsedTime: 106.1 seconds RetCode: 0 Status: OK PackageFile: airpart_1.17.0.tar.gz PackageFileSize: 781.7 KiB