Package: airpart Version: 1.17.0 Command: /home/biocbuild/bbs-3.22-bioc/R/bin/R CMD check --install=check:airpart.install-out.txt --library=/home/biocbuild/bbs-3.22-bioc/R/site-library --timings airpart_1.17.0.tar.gz StartedAt: 2025-07-21 19:56:29 -0400 (Mon, 21 Jul 2025) EndedAt: 2025-07-21 20:01:46 -0400 (Mon, 21 Jul 2025) EllapsedTime: 316.4 seconds RetCode: 0 Status: OK CheckDir: airpart.Rcheck Warnings: 0