Package: agilp Version: 3.41.0 Command: /home/biocbuild/bbs-3.22-bioc/R/bin/R CMD INSTALL agilp StartedAt: 2025-07-01 15:01:51 -0400 (Tue, 01 Jul 2025) EndedAt: 2025-07-01 15:02:00 -0400 (Tue, 01 Jul 2025) EllapsedTime: 9.0 seconds RetCode: 0 Status: OK